BEGIN:VCALENDAR
VERSION:2.0
PRODID:-//First Coast Honor Flights - ECPv6.15.20//NONSGML v1.0//EN
CALSCALE:GREGORIAN
METHOD:PUBLISH
X-WR-CALNAME:First Coast Honor Flights
X-ORIGINAL-URL:https://firstcoasthonorflight.org
X-WR-CALDESC:Events for First Coast Honor Flights
REFRESH-INTERVAL;VALUE=DURATION:PT1H
X-Robots-Tag:noindex
X-PUBLISHED-TTL:PT1H
BEGIN:VTIMEZONE
TZID:America/New_York
BEGIN:DAYLIGHT
TZOFFSETFROM:-0500
TZOFFSETTO:-0400
TZNAME:EDT
DTSTART:20220313T070000
END:DAYLIGHT
BEGIN:STANDARD
TZOFFSETFROM:-0400
TZOFFSETTO:-0500
TZNAME:EST
DTSTART:20221106T060000
END:STANDARD
BEGIN:DAYLIGHT
TZOFFSETFROM:-0500
TZOFFSETTO:-0400
TZNAME:EDT
DTSTART:20230312T070000
END:DAYLIGHT
BEGIN:STANDARD
TZOFFSETFROM:-0400
TZOFFSETTO:-0500
TZNAME:EST
DTSTART:20231105T060000
END:STANDARD
BEGIN:DAYLIGHT
TZOFFSETFROM:-0500
TZOFFSETTO:-0400
TZNAME:EDT
DTSTART:20240310T070000
END:DAYLIGHT
BEGIN:STANDARD
TZOFFSETFROM:-0400
TZOFFSETTO:-0500
TZNAME:EST
DTSTART:20241103T060000
END:STANDARD
BEGIN:DAYLIGHT
TZOFFSETFROM:-0500
TZOFFSETTO:-0400
TZNAME:EDT
DTSTART:20250309T070000
END:DAYLIGHT
BEGIN:STANDARD
TZOFFSETFROM:-0400
TZOFFSETTO:-0500
TZNAME:EST
DTSTART:20251102T060000
END:STANDARD
END:VTIMEZONE
BEGIN:VTIMEZONE
TZID:UTC
BEGIN:STANDARD
TZOFFSETFROM:+0000
TZOFFSETTO:+0000
TZNAME:UTC
DTSTART:20210101T000000
END:STANDARD
END:VTIMEZONE
BEGIN:VEVENT
DTSTART;VALUE=DATE:20240329
DTEND;VALUE=DATE:20240330
DTSTAMP:20260420T193311
CREATED:20240220T185600Z
LAST-MODIFIED:20240220T190152Z
UID:1522-1711670400-1711756799@firstcoasthonorflight.org
SUMMARY:National Vietnam War Veterans Day
DESCRIPTION:Please join us on March 29th for National Vietnam War Veterans Day.\nAll day\, we will be saying\, ‘Thank you and Welcome Home’ at your local Mission BBQ to all Vietnam Veterans..including Vietnam Era Veterans… with a gift of a Free Sandwich. Below is a flyer for you to share with any Vietnam Veterans you know.\n\nThank you for your support.\n\nWe look forward to Serving you soon!
URL:https://firstcoasthonorflight.org/event/national-vietnam-war-veterans-day/
END:VEVENT
BEGIN:VEVENT
DTSTART;VALUE=DATE:20231007
DTEND;VALUE=DATE:20231008
DTSTAMP:20260420T193311
CREATED:20230314T172701Z
LAST-MODIFIED:20230314T172701Z
UID:1385-1696636800-1696723199@firstcoasthonorflight.org
SUMMARY:Fall Honor Flight 2023 Reunion
DESCRIPTION:
URL:https://firstcoasthonorflight.org/event/fall-honor-flight-2023-reunion/
END:VEVENT
BEGIN:VEVENT
DTSTART;VALUE=DATE:20230916
DTEND;VALUE=DATE:20230917
DTSTAMP:20260420T193311
CREATED:20230110T131645Z
LAST-MODIFIED:20230314T172625Z
UID:1130-1694822400-1694908799@firstcoasthonorflight.org
SUMMARY:Fall Honor Flight Day!
DESCRIPTION:
URL:https://firstcoasthonorflight.org/event/fall-honor-flight-day/
END:VEVENT
BEGIN:VEVENT
DTSTART;VALUE=DATE:20230826
DTEND;VALUE=DATE:20230827
DTSTAMP:20260420T193311
CREATED:20230314T172319Z
LAST-MODIFIED:20230314T172319Z
UID:1383-1693008000-1693094399@firstcoasthonorflight.org
SUMMARY:Fall Honor Flight 2023 Orientation
DESCRIPTION:
URL:https://firstcoasthonorflight.org/event/fall-honor-flight-2023-orientation/
END:VEVENT
BEGIN:VEVENT
DTSTART;VALUE=DATE:20230513
DTEND;VALUE=DATE:20230514
DTSTAMP:20260420T193311
CREATED:20230314T172222Z
LAST-MODIFIED:20230314T172222Z
UID:1381-1683936000-1684022399@firstcoasthonorflight.org
SUMMARY:Spring Honor Flight 2023 Reunion
DESCRIPTION:
URL:https://firstcoasthonorflight.org/event/spring-honor-flight-2023-reunion/
END:VEVENT
BEGIN:VEVENT
DTSTART;VALUE=DATE:20230422
DTEND;VALUE=DATE:20230423
DTSTAMP:20260420T193311
CREATED:20230110T131553Z
LAST-MODIFIED:20230110T131553Z
UID:1128-1682121600-1682207999@firstcoasthonorflight.org
SUMMARY:Spring Honor Flight Day!
DESCRIPTION:
URL:https://firstcoasthonorflight.org/event/spring-honor-flight-day/
END:VEVENT
BEGIN:VEVENT
DTSTART;VALUE=DATE:20230401
DTEND;VALUE=DATE:20230402
DTSTAMP:20260420T193311
CREATED:20230110T131428Z
LAST-MODIFIED:20230110T131447Z
UID:1124-1680307200-1680393599@firstcoasthonorflight.org
SUMMARY:Spring Honor Flight Orientation
DESCRIPTION:
URL:https://firstcoasthonorflight.org/event/spring-honor-flight-orientation/
LOCATION:5755 Ramona Blvd\, Jacksonville
END:VEVENT
BEGIN:VEVENT
DTSTART;VALUE=DATE:20230307
DTEND;VALUE=DATE:20230313
DTSTAMP:20260420T193311
CREATED:20230125T145440Z
LAST-MODIFIED:20230125T145440Z
UID:1370-1678147200-1678665599@firstcoasthonorflight.org
SUMMARY:Birdies for Charity
DESCRIPTION:Birdies for Charity is a free fundraising program open to any non-profit organization in Northeast Florida. \nCharitable organizations invite individuals to make a minimum $20 contribution that will allow the donor to guess the number of birdies* that will be made during the competitive rounds of THE PLAYERS Championship (Thursday-Sunday). \nThe individual who guesses the exact number of birdies (or closest thereto) will be awarded a grand prize of $10\,000. A tie-breaker question will also be asked.
URL:https://firstcoasthonorflight.org/event/birdies-for-charity/
END:VEVENT
BEGIN:VEVENT
DTSTART;TZID=UTC:20230221T170000
DTEND;TZID=UTC:20230221T190000
DTSTAMP:20260420T193311
CREATED:20230110T131235Z
LAST-MODIFIED:20230110T131235Z
UID:1119-1676998800-1677006000@firstcoasthonorflight.org
SUMMARY:FCHF Volunteer Get Together
DESCRIPTION:
URL:https://firstcoasthonorflight.org/event/fchf-volunteer-get-together/
LOCATION:8440 Blanding Blvd\, Jacksonville
END:VEVENT
BEGIN:VEVENT
DTSTART;TZID=UTC:20221115T170000
DTEND;TZID=UTC:20221115T210000
DTSTAMP:20260420T193311
CREATED:20221102T180359Z
LAST-MODIFIED:20221102T180425Z
UID:653-1668531600-1668546000@firstcoasthonorflight.org
SUMMARY:FCHF Get Together
DESCRIPTION:Fundraiser 10% of proceeds are donated back to our organization. \nNeed some extra hands serving \, cleaning tables and information table.
URL:https://firstcoasthonorflight.org/event/fchf-get-together/
LOCATION:Culver’s 95 Fountains Way\, St. John’s
END:VEVENT
BEGIN:VEVENT
DTSTART;TZID=UTC:20221112T080000
DTEND;TZID=UTC:20221112T170000
DTSTAMP:20260420T193311
CREATED:20221102T180642Z
LAST-MODIFIED:20221102T180642Z
UID:656-1668240000-1668272400@firstcoasthonorflight.org
SUMMARY:Mr. South Hampton
DESCRIPTION:Fundraiser $250 registration fee.
URL:https://firstcoasthonorflight.org/event/mr-south-hampton/
LOCATION:The Golf Club at South Hampton
END:VEVENT
BEGIN:VEVENT
DTSTART;TZID=UTC:20221111T070000
DTEND;TZID=UTC:20221111T120000
DTSTAMP:20260420T193311
CREATED:20221102T175936Z
LAST-MODIFIED:20221102T175936Z
UID:647-1668150000-1668168000@firstcoasthonorflight.org
SUMMARY:Veterans Day Parade
DESCRIPTION:
URL:https://firstcoasthonorflight.org/event/veterans-day-parade/
LOCATION:TBD
END:VEVENT
END:VCALENDAR